BEGIN:VCALENDAR
VERSION:2.0
PRODID:-//LaVallee - ECPv6.13.2.1//NONSGML v1.0//EN
CALSCALE:GREGORIAN
METHOD:PUBLISH
X-ORIGINAL-URL:https://lavallee.brussels
X-WR-CALDESC:Évènements pour LaVallee
REFRESH-INTERVAL;VALUE=DURATION:PT1H
X-Robots-Tag:noindex
X-PUBLISHED-TTL:PT1H
BEGIN:VTIMEZONE
TZID:UTC
BEGIN:STANDARD
TZOFFSETFROM:+0000
TZOFFSETTO:+0000
TZNAME:UTC
DTSTART:20250101T000000
END:STANDARD
END:VTIMEZONE
BEGIN:VEVENT
DTSTART;TZID=UTC:20250327T183000
DTEND;TZID=UTC:20250406T143000
DTSTAMP:20260419T174001
CREATED:20250303T125357Z
LAST-MODIFIED:20250401T080502Z
UID:5221-1743100200-1743949800@lavallee.brussels
SUMMARY:Opus One -Breedbeeld
DESCRIPTION:Met Opus One zet BREEDBEELD jaarlijks een selectie van de beste eindwerken fotografie in de kijker\, samengesteld vanuit inzendingen vanuit alle opleidingstypes. Opus One ’24 kijkt alweer over de grenzen heen: met Nederland als gastland worden er dit jaar ook vier Nederlandse eindwerken in de selectie opgenomen. De tentoonstelling Opus One ’24\, waarin je deze eindwerken in de beste omstandigheden zal kunnen bewonderen\, zal plaatsvinden in LaVallée in Brussel\, van donderdag 27 maart tot en met 6 april 2025. Het bijhorende fotoboek is te koop in alle Confituur-boekhandels in Vlaanderen en Brussel\, online via de BREEDBEELD-website en in LaVallée in Brussel tijdens de tentoonstelling. \n\n\n\n\n\nElk jaar studeren er in Vlaanderen en Brussel enkele honderden fotografen af aan kunsthogescholen\, deeltijds kunstonderwijs of volwassenenonderwijs. Allemaal fotografen die tijdens hun opleiding vol ambitie hebben toegewerkt naar hun eindwerk\, een eerste ijkpunt in hun carrière als fotograaf. Als steunpunt voor iedereen die in Vlaanderen en Brussel met fotografie\, film of mediakunst bezig is\, wil BREEDBEELD deze mensen met Opus One een breder platform bieden voor hun werk en de verhalen die ze willen vertellen. Opus One vormt zo ook een soort staalkaart van wat er dat jaar leeft binnen de fotografie. \n\n\n\n\n\n\n\n\n\n\nDe fotografen\nDeze tentoonstelling bevat een selectie uit de eindwerken van David Benoit\, Charlotte Brehmer\, Alfonso Bricegno\, Agata Budzisz\, Hua Cai-Prossé\, Björn Comhaire\, Rune S. De Clercq\, Lisa Hu (NL)\, Caroline Kist (NL)\, Pauline Köhlen (NL)\, Bart Lenaerts\, Jan Nijs\, Laura Smekens\, Jan Staiger\, Eveline van Hamond\, Luuk van Raamsdonk (NL)\, Emiel Viellefont\, Wout Vloeberghs en Gerdi Willems. \n\nOpeningsuren :\n\n Ma en din 10-18u. \n Woe\, do en vrij 10- 17u. \n Za 10-18.  \nZo 10-14u.
URL:https://lavallee.brussels/event/opus-one-breedbeeld/
LOCATION:LaVallée\, Rue Adolphe Lavallée 39\, Brussels\, 1080\, Belgique
ATTACH;FMTTYPE=image/png:https://lavallee.brussels/wp-content/uploads/2025/02/opus.png
END:VEVENT
BEGIN:VEVENT
DTSTART;TZID=UTC:20250404T200000
DTEND;TZID=UTC:20250405T040000
DTSTAMP:20260419T174001
CREATED:20250312T133531Z
LAST-MODIFIED:20250312T133531Z
UID:5265-1743796800-1743825600@lavallee.brussels
SUMMARY:Distomobile Soundsystem X Rattus : Holiday Inn + Giulio Eraz. + Bivou4c + Tzii + Non local R.
DESCRIPTION: DISTOMOBILE and RATTUSpresent a night on a soundsystem of quality\, with a pleasant selection of musical acts.____________________________________________________________________\n4 APRIL / AVRIL 2025at La Vallée (Bruxelles)8PM – 4AM10/12 EUROS!! no CB at the door !! / no relou anywhere____________________________________________________________________\nWITH OUR SUCCULENT PROTAGONISTS :\n DISTOMOBILE SOUNDSYSTEM https://www.instagram.com/distomobile/\nThe top of the pops of rigorous apa-rattus for sophisticated electronic\, dub and bass musics : 5 levels of frequencies built to optimize the body shake. Operated by ineffable and tireless (c_c)____________________________________________________________________\n° Holiday Inn ° (it) – LIVEhttps://www.youtube.com/watch?v=GC4zfjbT0zg\nTop of the pops of italian underground : potentially screamable\, extremely danceable. A rare occasion to see the roman duo playing up there. One will be static and firmly efficient\, the other will move around with his long arms and legs.____________________________________________________________________\n° bivou4c ° (fr) – DJ SEThttps://soundcloud.com/…/if-i-get-hit-ideal-trouble…\n4nn4 is the co-runner of Bientôt Veuves label. She was born after the total eclipse of the sun but is already at the top of the pops of french underground bass music selecta.____________________________________________________________________\n° Giulio Erasmus & the Uniworm ° (uk/be) – LIVEhttps://www.youtube.com/watch?v=TEq0dhfEGac\nTwo drummers were given to the Elves\, immortal\, wisest and fairest of all beings. Two keyboarders to the Dwarf lords\, great miners and craftsmen of the mountain halls. And one dog\, one tiny dog was gifted to the race of men\, who\, above all else\, desire power. But they were\, all of them\, deceived\, for a bass player was made. In the land of Brussels\, in the fires of Schaerbeek\, the Dark Lord forged in secret a master bass player\, to control all others. And into this bass player he poured his funky propensity\, his chorus effect appetence and his will to dominate all life. One bass player to rule them all.The top of the pops of Rattus’ board.____________________________________________________________________\n° Non Local Research ° (cl/be) – DJ SEThttps://nonlocalresearch.bandcamp.com/\nThe top of the pops of ambient/sunity/weirdy bleep blops music.Siet and Thomas will mostly provide a joyful danceable DJ set full of witchcraft and surprises\, with perfect headgear and good attitude.____________________________________________________________________\n° Tzii ° (be) – LIVEhttps://www.youtube.com/watch?v=jloPhNnv4ug\nThe top of the pops ofun-dogmaticun-codifiedun-formatedde-constructedouter worldsthrough the awareness of the thrill of the unknown\,longing for flickering tongues on distant shores.____________________________________________________________________\nThat’s all rats!\n\nL e a v i n g M E T A ?WEBSITE : https://rattusdominus.hotglue.meTelegram channel : https://t.me/+CUOQRWSfoRUwMGJk
URL:https://lavallee.brussels/event/distomobile-soundsystem-x-rattus-holiday-inn-giulio-eraz-bivou4c-tzii-non-local-r/
ATTACH;FMTTYPE=image/jpeg:https://lavallee.brussels/wp-content/uploads/2025/03/480284212_10161260761025823_2948728503933361516_n.jpg
END:VEVENT
BEGIN:VEVENT
DTSTART;TZID=UTC:20250405T220000
DTEND;TZID=UTC:20250406T040000
DTSTAMP:20260419T174001
CREATED:20250303T144036Z
LAST-MODIFIED:20250303T144108Z
UID:5229-1743890400-1743912000@lavallee.brussels
SUMMARY:Kiekebiche #8
DESCRIPTION:C’est bientôt le printemps et LES TORDU·E·X·S prennent en otage la prochaine Kiekebiche\, compte sur elleux pour faire ça sans négociation !\nPrépare ton boule à facette\, on s’occupe du reste\, tu ne seras pas déçu•e \n\n HORST & BEKY (KKBCH) \nDuo de barbus sur ressorts\, musicalement instables\, adeptes des grands écarts en tout genre\, les mix des deux hôtes de la KIEKEBICHE font fricoter pop\, electro\, house\, rock et disco\, votre « boule » a facettes n’a qu’a bien se tenir !\n\n LES TORDU·E·X·S (Dj Manusko / Sombre Baxter / Thom Leblanc / Acid Lily / Arthur Scott)\nLes Tordus.e.x sont né.x.s un soir de pluie. Iels se réunissent en secret dans les égouts de Brux’hell pour faire vibrer la ville entière depuis ses entrailles. Les Tordus.e.x sortiront une nouvelle fois de leur cave après avoir retourné le dancefloor de la Pink Night pour embraser celui de la Kiekebiche . Si vous n’êtes pas là\, vous ne saurez pas. Tu viens ou tu crains.\n\n\n Le côté pratique Samedi 5 Avril – 22h > 4hPréventes 8 € et sur place 10€ (cash only sauf au bar)\nLaVallée – rue Adolphe Lavallée 39 1080 BruxellesAccès transport public : Tram 51 (arrêt Sainctelette)\, Métro 2 et 6 (arrêt Ribaucourt)\n  Pour que la fête soit belle et safe\, la KIEKEBICHE condamne tout acte homophobe\, transphobe\, misogyne\, raciste\, antisémite\, discriminatoire de quelque nature qu’il soit ainsi que la violence\, la haine et l’irrespect sous toutes leurs formes. Nous en appelons à la bienveillance de chacun.e.  
URL:https://lavallee.brussels/event/kiekebiche-8/
LOCATION:LaVallée\, Rue Adolphe Lavallée 39\, Brussels\, 1080\, Belgique
ATTACH;FMTTYPE=image/jpeg:https://lavallee.brussels/wp-content/uploads/2025/03/481479391_1040525301441152_1102881343105984083_n.jpg
END:VEVENT
BEGIN:VEVENT
DTSTART;TZID=UTC:20250412T180000
DTEND;TZID=UTC:20250413T040000
DTSTAMP:20260419T174001
CREATED:20250310T083507Z
LAST-MODIFIED:20250401T131948Z
UID:5258-1744480800-1744516800@lavallee.brussels
SUMMARY:BONK : PEW PEW !
DESCRIPTION:FR\n\n▔▔▔▔▔▔▔▔▔▔▔▔▔▔▔\nPEW PEW\, un voyage spatial dans une galaxie de musique électronique.\n\nPrends tes lunettes de soleil et prépare-toi à embarquer dans la navette de la teuf.\n\nLe collectif Bonk invite tout le monde à célébrer la fin de sa saison bruxelloise. \nAprès 6 mois de mixe partout dans la capitale\, iels ont choisi La Vallée pour héberger cet évènement important et marquer le coup. En plus des DJ habituels\, le collectif invite également des artistes et DJ de façon à créer un univers éclectique mais vibrant\, emprunt de nombreux styles de musique mais dont la techno reste la principale composante.\n\nDès 18:00\, venez vous rafraichir au bar de la vallée et déguster les petits plats de la toute nouvelle coop ZOT cantine de la fonderie. La terrasse sera ouverte s'il fait beau\, sinon tout se passera en intérieur.\n\n\nEN\n▔▔▔▔▔▔▔▔▔▔▔▔▔▔▔\nPEW PEW a space travel into an electronic music galaxi.\n\nBring your sunglasses and get ready to board the party shuttle.\n\nThe Bonk Collective gathers everybody to celebrate the end of their brussels season.\nAfter 6 months of mixing everywhere in the city\, they decided to throw a big party at La Vallée for this special occasion. The line up includes artists and dj from inside and outside of the collective. The music journey will be exotic and vibrant with a strong techno dimension.\n\nFrom 6:00 p.m.\, come refresh yourself at the valley bar and enjoy a meal from the brand-new ZOT cantine de la fonderie cooperative. The terrace will be open if the weather is nice; otherwise\, everything will take place indoors.\n\nLINE UP A-Z\n▔▔▔▔▔▔▔▔▔▔▔▔▔▔▔\nBig Bad Bruce\nDeschamps\nDJ Brebis\nGémeaux\nGros Malin\nGucccifer\nNanaze\nVictor Novak (live)\n\n\nINFO\n▔▔▔▔▔▔▔▔▔▔▔▔▔▔▔\n→ From 18:00 (Food inside) to 03:45\n→ La Vallée - Rue Adolphe Lavallée 39\, 1080 Bruxelles\n→ Tickets : https://my.weezevent.com/bonk-pewpew\n→ Dress code : Don't hesitate to be in the mood of space travel and sci-fi universe... Flashy or black futuristic outfit with shiny sunglasses will make you the queen/king of the night
URL:https://lavallee.brussels/event/bonk-pew-pew/
ATTACH;FMTTYPE=image/jpeg:https://lavallee.brussels/wp-content/uploads/2025/03/482078725_608512385497753_7651521623944309409_n.jpg
END:VEVENT
BEGIN:VEVENT
DTSTART;TZID=UTC:20250418T190000
DTEND;TZID=UTC:20250418T230000
DTSTAMP:20260419T174001
CREATED:20250324T094303Z
LAST-MODIFIED:20250324T094320Z
UID:5302-1745002800-1745017200@lavallee.brussels
SUMMARY:Débat : déconstruire les normes familiales
DESCRIPTION:Comment les sociétés construisent et appliquent les cadres normatifs familiaux ? A partir de quel moment les normes posent problème ? Quel est l’intérêt à questionner les normes ?Comment les défier ?\nUne discussion pour ouvrir l’horizon des normes familiales en y intégrant les inventions familiales autant que les fonctionnements plus classiques dans une démarche émancipatrice.\nAvec Asunción Fresnoza-Flot (anthropologue de la famille\, ULB)\, Victoriae Defraigne (transactiviste\, autrice de « Les transidentités expliquées à mes parents »)\, Amandine Gay (réalisatrice).\n𝐈𝐧𝐟𝐨𝐫𝐦𝐚𝐭𝐢𝐨𝐧𝐬 𝐩𝐫𝐚𝐭𝐢𝐪𝐮𝐞𝐬 Gratuit sur inscription : https://shop.utick.net/?module=CATALOGUE&pos=VARIETES À LaVallée (Rue Adolphe Lavallée 39\, 1080 Bruxelles)\n 𝑫𝒂𝒏𝒔 𝒍𝒆 𝒄𝒂𝒅𝒓𝒆 𝒅𝒖 𝑳𝒂𝒃𝒐-𝒄𝒉𝒂𝒏𝒕𝒊𝒆𝒓 𝑽𝒂𝒓𝒊𝒆́𝒕𝒆́𝒔 : 𝑨𝒎𝒊𝒕𝒊𝒆́𝒔\, 𝑨𝒇𝒇𝒊𝒏𝒊𝒕𝒆́𝒔\, 𝑨𝒇𝒇𝒊𝒍𝒊𝒂𝒕𝒊𝒐𝒏𝒔  Partenariat : Labo-chantier Variétés/Bruxelles Laïque + Ligue des Familles + LaVallée
URL:https://lavallee.brussels/event/debat-deconstruire-les-normes-familiales/
LOCATION:LaVallée\, Rue Adolphe Lavallée 39\, Brussels\, 1080\, Belgique
ATTACH;FMTTYPE=image/jpeg:https://lavallee.brussels/wp-content/uploads/2025/03/485001213_122219025032035080_7928289481888822235_n.jpg
END:VEVENT
BEGIN:VEVENT
DTSTART;TZID=UTC:20250419T100000
DTEND;TZID=UTC:20250419T120000
DTSTAMP:20260419T174001
CREATED:20250324T094726Z
LAST-MODIFIED:20250324T094726Z
UID:5312-1745056800-1745064000@lavallee.brussels
SUMMARY:Arpentage : "Faire famille autrement" de Gabrielle Richard
DESCRIPTION: Un arpentage proposé par La Ligue des Familles\nPour concevoir et élever un enfant\, une seule configuration semble possible dans nos sociétés occidentales : un homme et une femme\, en couple\, monogames. Pourtant\, des familles queers existent : ce ne sont pas des utopies\, mais des réalités. Et ce qu’elles nous montrent\, c’est que la répartition genrée des rôles dans la parentalité n’a rien de « naturel » : on peut participer ou pas à la conception de ses enfants ; on peut les porter\, ou pas ; on peut les allaiter même si on ne les a pas portés ; on peut les élever seul·e\, à deux\, à plus\, en étant en couple\, ou pas… Historiquement utilisé dans les cercles ouvriers anarchistes du 19e siècle\, l’arpentage est une méthode de lecture collective d’un ouvrage afin de se (ré)-approprier un savoir tout en partageant les idées et vécus du groupe.\n Gabriel Richard. Faire Famille autrement. La Collection Sur la table\, 2022.\n\n𝐈𝐧𝐟𝐨𝐫𝐦𝐚𝐭𝐢𝐨𝐧𝐬 𝐩𝐫𝐚𝐭𝐢𝐪𝐮𝐞𝐬 Gratuit sur inscription : https://shop.utick.net/?module=CATALOGUE&pos=VARIETES À LaVallée (Rue Adolphe Lavallée 39\, 1080 Bruxelles) L’atelier est ouvert à toutes et tous\, il est gratuit et les livres sont prêtés. Pour avoir lieu\, le groupe doit être constitué entre 6 et 10 participantes et participants.\n Qu’est-ce qu’un arpentage ? Chacun lit son extrait et on discute\, on analyse et on compare ses impressions. Cette pratique est apparue dans la culture ouvrière dès la fin du 19e siècle. Elle permet à chacun de s’approprier l’œuvre et au groupe de se construire une culture commune.\n 𝑫𝒂𝒏𝒔 𝒍𝒆 𝒄𝒂𝒅𝒓𝒆 𝒅𝒖 𝑳𝒂𝒃𝒐-𝒄𝒉𝒂𝒏𝒕𝒊𝒆𝒓 𝑽𝒂𝒓𝒊𝒆́𝒕𝒆́𝒔 : 𝑨𝒎𝒊𝒕𝒊𝒆́𝒔\, 𝑨𝒇𝒇𝒊𝒏𝒊𝒕𝒆́𝒔\, 𝑨𝒇𝒇𝒊𝒍𝒊𝒂𝒕𝒊𝒐𝒏𝒔  Partenariat : Labo-chantier Variétés/Bruxelles Laïque + Ligue des Familles + LaVallée
URL:https://lavallee.brussels/event/arpentage-faire-famille-autrement-de-gabrielle-richard/
ATTACH;FMTTYPE=image/jpeg:https://lavallee.brussels/wp-content/uploads/2025/03/484945451_122218908386035080_443689605103541120_n.jpg
END:VEVENT
BEGIN:VEVENT
DTSTART;TZID=UTC:20250419T220000
DTEND;TZID=UTC:20250420T003000
DTSTAMP:20260419T174001
CREATED:20250324T094504Z
LAST-MODIFIED:20250324T094504Z
UID:5308-1745100000-1745109000@lavallee.brussels
SUMMARY:Concert : LaVaSax +La Valise
DESCRIPTION:𝐋𝐚𝐯𝐚𝐬𝐚𝐱Deux musiciens qui jouent et c’est un band complet que l’on entend. Un pied et vingt doigts pour faire sonner tous les morceaux que vous connaissez\, avec l’énergie de 10 personnes.LavaSax\, c’est une histoire de pavé qui ne demande qu’à être battu !\n– Manon Lannoy : saxophone alto– Illia Vasiachkin : saxophone baryton / kick\n𝐋𝐚 𝐕𝐚𝐥𝐢𝐬𝐞La Valise (n.f.) : deux musiciennes à l’envie furieuse et insatiable de vous faire voyager ! Elles vous embarquent avec leur accordéon\, leur violon et leur voix et chantent dans une dizaine de langues différentes – du suédois à l’italien\, en passant par le grec ou le macédonien. Le bilan carbone est tout bonnement scandaleux !\nAvec une avalanche d’amour\, de complicité et d’humour sauce lapin\, ces deux épicuriennes vous communiquent de façon contagieuse leur passion pour la musique mais aussi les rencontres humaines\, les souvenirs de vadrouille et les bons repas. Elles voyagent aussi dans leur propre tête – sans substances illicites – et composent une musique et des chansons d’inspiration folk. Leur musique vogue entre les images et les émotions dans un univers presque cinématographique. L’ambiance est tantôt douce et feutrée puis joyeuse et truculente.\n𝐏𝐫𝐨𝐠𝐫𝐚𝐦𝐦𝐞22h : Lavasax23h : La Valise\n𝐈𝐧𝐟𝐨𝐫𝐦𝐚𝐭𝐢𝐨𝐧𝐬 𝐩𝐫𝐚𝐭𝐢𝐪𝐮𝐞𝐬 Gratuit sur inscription : https://shop.utick.net/?module=CATALOGUE&pos=VARIETES À LaVallée (Rue Adolphe Lavallée 39\, 1080 Bruxelles)\n 𝑫𝒂𝒏𝒔 𝒍𝒆 𝒄𝒂𝒅𝒓𝒆 𝒅𝒖 𝑳𝒂𝒃𝒐-𝒄𝒉𝒂𝒏𝒕𝒊𝒆𝒓 𝑽𝒂𝒓𝒊𝒆́𝒕𝒆́𝒔 : 𝑨𝒎𝒊𝒕𝒊𝒆́𝒔\, 𝑨𝒇𝒇𝒊𝒏𝒊𝒕𝒆́𝒔\, 𝑨𝒇𝒇𝒊𝒍𝒊𝒂𝒕𝒊𝒐𝒏𝒔  Partenariat : Labo-chantier Variétés/Bruxelles Laïque + Ligue des Familles + LaVallée
URL:https://lavallee.brussels/event/concert-lavasax-la-valise/
LOCATION:LaVallée\, Rue Adolphe Lavallée 39\, Brussels\, 1080\, Belgique
ATTACH;FMTTYPE=image/jpeg:https://lavallee.brussels/wp-content/uploads/2025/03/485127596_122219165852035080_6467452894098267583_n.jpg
END:VEVENT
BEGIN:VEVENT
DTSTART;TZID=UTC:20250425T180000
DTEND;TZID=UTC:20250426T010000
DTSTAMP:20260419T174001
CREATED:20250410T122118Z
LAST-MODIFIED:20250422T121018Z
UID:5347-1745604000-1745629200@lavallee.brussels
SUMMARY:𝐑𝐞𝐩𝐚𝐫𝐭𝐲 #𝟏 - 𝐂𝐮𝐫𝐚𝐭𝐞𝐝 𝐛𝐲 𝐦𝐨𝐥𝐢 𝐝𝐞𝐥 𝐭𝐫𝐨
DESCRIPTION:𝑅𝑢𝑚𝑜𝑟𝑠 𝑜𝑓 𝑜𝑢𝑟 𝑑𝑒𝑎𝑡ℎ 𝑤𝑒𝑟𝑒 𝑔𝑟𝑒𝑎𝑡𝑙𝑦 𝑒𝑥𝑎𝑔𝑔𝑒𝑟𝑎𝑡𝑒𝑑\n𝐿𝑎𝑉𝑎𝑙𝑙𝑒́𝑒 𝑖𝑠 𝑠𝑡𝑖𝑙𝑙 𝑘𝑖𝑐𝑘𝑖𝑛𝑔 — 𝑎𝑛𝑑 𝑤𝑒’𝑟𝑒 𝑡𝑢𝑟𝑛𝑖𝑛𝑔 𝑢𝑝 𝑡ℎ𝑒 𝑣𝑜𝑙𝑢𝑚𝑒 \nThe night unfolds in two parts:\n☀️ Outside\, we start easy — with apéro\, chill vibes\, dj set\, drinks and sunshine. Come early\, catch up\, ease in.\n🌑 Inside\, we go deep — club mode activated. Raw textures\, mutant beats\, hypnotic loops and shadowy frequencies for those who like it weird and loud. \n𝑳𝒊𝒏𝒆-𝒖𝒑:\n18h-22h TERRACE\n🌀 Moli del Tro\nCurator of the night and sonic shapeshifter. Unstable\, uncanny\, unforgettable. \n⚡ Prince Off\nMagnetic chaos and poetic grit. Club music from the edges. \n22h-01h CLUB\n🌫️ Tolouse Low Trax (live)\nSolo project of Detlef Weinrich\, member of Kreidler and resident at the iconic Salon des Amateurs in Düsseldorf. Expect stripped-back percussion\, cold grooves\, and mind-altering minimalism. \n👯‍♂️ Derdrey & Derdrey (Dj set)\nNaomie Klaus + Lou (Reymour)\nA twin-headed journey into the experimental unknown. \nFood by : El Camion
URL:https://lavallee.brussels/event/%f0%9d%90%91%f0%9d%90%9e%f0%9d%90%a9%f0%9d%90%9a%f0%9d%90%ab%f0%9d%90%ad%f0%9d%90%b2-%f0%9d%9f%8f-%f0%9d%90%82%f0%9d%90%ae%f0%9d%90%ab%f0%9d%90%9a%f0%9d%90%ad%f0%9d%90%9e%f0%9d%90%9d-%f0%9d%90%9b/
ATTACH;FMTTYPE=image/jpeg:https://lavallee.brussels/wp-content/uploads/2025/04/FINAL-FB.jpg
END:VEVENT
BEGIN:VEVENT
DTSTART;TZID=UTC:20250426T130000
DTEND;TZID=UTC:20250427T020000
DTSTAMP:20260419T174001
CREATED:20250417T120108Z
LAST-MODIFIED:20250417T120138Z
UID:5359-1745672400-1745719200@lavallee.brussels
SUMMARY:2 Years Anniversary - Bandz and Crafts // Local Craft Market & Concerts
DESCRIPTION:For this special edition\, we’re celebrating the 2nd anniversary of our collective with a brand-new format: BandzAndCraftz! This time\, we’re not just bringing you a killer lineup\, but also an all-day event combining music\, arts\, and community.\nJoin us at LaVallée for an afternoon market featuring tattoos\, thrift clothes\, jewelry\, vintage decoration\, illustrations\, ceramics\, and much more\, followed by an electrifying night of live performances! \n🎸 LINE-UP\n🔥 STAKATTAK (BE) – A high-voltage trio combining surf rock\, punk\, and psych influences\, delivering electrifying grooves and frenetic energy on stage.\n🔥 STONKS (BE) – Brussels-based garage punk that hits hard with high-energy riffs and an unapologetic DIY spirit. Expect fast tempos and infectious chaos.\n🔥 PURRSES (BE) – Dreamy yet gritty\, Purrses merges shoegaze textures with post-punk urgency\, creating an atmospheric and emotionally charged soundscape.\n🔥 ANAMESA (BE) – A powerful fusion of progressive and psych rock\, Anamesa delivers raw and intense performances\, blending heavy riffs with hypnotic rhythms.\n🔥 TIM HOLEHOUSE (UK) – A one-man folk-punk storyteller from the UK\, mixing raw\, heartfelt lyrics with bluesy guitar work and a rebellious edge. \n🛍️ MARKET (13:00 – 19:00)\nFree entrance at the market\nCome early and browse through a unique selection of tattoos\, thrift clothes\, jewelry\, vintage decoration\, illustrations\, ceramics\, etc. More info very soon about the participants 👀\n🍽️ FOOD & DRINKS\nFood will be available throughout the afternoon and evening\, so you can enjoy a bite while exploring the market or between concerts!\n🎶 CONCERTS START AT 19:30 \n🎟 TICKETS\nOnly for the concerts\nPresale: 15€\nAt the door: 18€\n📍LOCATION\nLaVallée\nRue Adolphe Lavallée 39\n1080 Bruxelles \n🏃🏻‍♀️ HOW TO GET THERE\nMetro : 1\, 2\, 5\, 6 / Ribaucourt or Comte de Flandre\nTram : 51\nBus : 20\, 89 \n⛔️ SAFE POLICY\nWe won’t tolerate ANY oppressive and discriminatory behaviors such as racism\, sexism\, transphobia\, body shaming\, ableism\, agism. We will not tolerate toxic masculinities. Respect\, support and act kindly with each other. Ask for help from the team (organisers and bar staff) if you witness or are the victim of any kind of violent\, discriminative or oppressive behaviour.\nThanks to Stella Schwake for the artwork ❤️\n——————————————————————————————————\nDeze speciale editie vieren we de 2e verjaardag van ons collectief met een gloednieuw concept: BandzAndCraftz! Dit keer brengen we niet alleen een geweldige line-up\, maar ook een hele dag vol muziek\, kunst en community.\nKom langs bij LaVallée voor een middagmarkt met tatoeages\, tweedehands kleding\, juwelen\, vintage decoratie\, illustraties\, keramiek en nog veel meer\, gevolgd door een knallende avond vol live-optredens! \n🎸 LINE-UP\n🔥 STAKATTAK (BE) – Ruwe\, snelle en compromisloze punk recht uit Brussel. Scherpe riffs\, brute energie en een explosieve podiumprésence — Stakattak geeft je een rechtstreekse mokerslag.\n🔥 STONKS (BE) – Brusselse garagepunk die hard binnenkomt met energieke riffs en een onverschrokken DIY-mentaliteit. Verwacht snelle tempo’s en aanstekelijke chaos.\n🔥 PURRSES (BE) – Dromerig maar rauw\, Purrses combineert\nshoegaze-texturen met postpunk-energie voor een meeslepende en emotioneel geladen sound.\n🔥 ANAMESA (BE) – Een krachtige mix van progressieve en psychedelische rock\, met intense optredens\, zware riffs en hypnotiserende ritmes.\n🔥 TIM HOLEHOUSE (UK) – Een folkpunk-verhalenverteller uit het VK\, die eerlijke\, rauwe teksten combineert met bluesy gitaarwerk en een rebelse edge. \n🛍️ MARKT (13:00 – 19:00)\nGratis toegang\nKom vroeg en ontdek een unieke selectie van tatoeages\, tweedehands kleding\, juwelen\, vintage decoratie\, illustraties\, keramiek\, en meer. Meer info over de deelnemers binnenkort 👀 \n🍽️ ETEN & DRINKEN\nDe hele namiddag en avond is er eten beschikbaar\, zodat je tussendoor iets kunt eten terwijl je de markt verkent of tussen de concerten door! \n🎶 CONCERTEN STARTEN OM 19:30 \n🎟 TICKETS\nAlleen voor de concerten\n🎫 Voorverkoop: 15€\n🎫 Aan de deur: 18€
URL:https://lavallee.brussels/event/2-years-anniversary-bandz-and-crafts-local-craft-market-concerts/
LOCATION:LaVallée\, Rue Adolphe Lavallée 39\, Brussels\, 1080\, Belgique
ATTACH;FMTTYPE=image/jpeg:https://lavallee.brussels/wp-content/uploads/2025/04/492061915_619496764422447_7899052020113130380_n.jpg
END:VEVENT
END:VCALENDAR