BEGIN:VCALENDAR
VERSION:2.0
PRODID:-//LaVallee - ECPv6.13.2.1//NONSGML v1.0//EN
CALSCALE:GREGORIAN
METHOD:PUBLISH
X-ORIGINAL-URL:https://lavallee.brussels
X-WR-CALDESC:Évènements pour LaVallee
REFRESH-INTERVAL;VALUE=DURATION:PT1H
X-Robots-Tag:noindex
X-PUBLISHED-TTL:PT1H
BEGIN:VTIMEZONE
TZID:UTC
BEGIN:STANDARD
TZOFFSETFROM:+0000
TZOFFSETTO:+0000
TZNAME:UTC
DTSTART:20240101T000000
END:STANDARD
END:VTIMEZONE
BEGIN:VEVENT
DTSTART;TZID=UTC:20240906T060000
DTEND;TZID=UTC:20240908T210000
DTSTAMP:20260420T054058
CREATED:20240805T125719Z
LAST-MODIFIED:20240805T125727Z
UID:4668-1725602400-1725829200@lavallee.brussels
SUMMARY:Bords Perdus : festival de Micro-édition et d'images imprimée
DESCRIPTION:Damoiselles et damoiseaux\,Il fut un temps\, jadis\, où miroiter des enluminures en dehors des carcans institutionnels était une croisade longue et périlleuse. \nLes grimoires et étendards de qualité façonnés de main de maître.sse par les artisan.e.s de nos contrées et d’ailleurs étaient introuvables !\nDe surcroît\, festoyer\, un verre de cervoise ou d’hydromel à la main\, en se délectant des facéties de bardes et de ménestrels\, nécessitait un périple où il fallait user de maléfices et croiser le fer plus d’une fois…\nQuant à assister à une rencontre autour de l’autobiographie féminine donnée par ses acteur.ices\, n’en parlons même pas !Ce temps est désormais révolu.\nBienvenue à la deuxième édition de Bords Perdus\, le festival mettant en avant la micro éditions et l’image imprimée\, sous fond de concerts divers et variés !\nRendez vous à Lavallée\, les 6\,7 & 8 septembre 2024\, pour un événement regroupant une exposition collective de 18 artistes\, plus d’une quarantaine de stands de micro éditions\, une rencontre avec Fanatic Female Frustration animée par Romane Armand autour de l’autobiographie féminine et des concerts et DJ sets en soirée.\nVenez trouver affiches\, fanzines\, t-shirts\, et divers impressions pour satisfaire vos mirettes\, ainsi qu’une exposition ouverte pour toute la durée du festival !\nTBAExposition collective : Stands:\nVendredi 6 septembre:Marché de micro éditions de 17h à 22hDJ set à partir de 22h\nSamedi 7 septembre:Marché de micro éditions de 13h à 21hConcerts et DJ set à partir de 21h\nDimanche 8 septembre:Marché de micro éditions de 13h à 19hRencontre avec le Fanatic Female Frustration animée par Romane Armand à 15h\nIllustration by la merveilleuse @alice_monvaillier
URL:https://lavallee.brussels/event/bords-perdus-festival-de-micro-edition-et-dimages-imprimee/
ATTACH;FMTTYPE=image/jpeg:https://lavallee.brussels/wp-content/uploads/2024/08/452254286_792057612912433_1227300496060569466_n.jpg
END:VEVENT
BEGIN:VEVENT
DTSTART;TZID=UTC:20240913T180000
DTEND;TZID=UTC:20240914T010000
DTSTAMP:20260420T054058
CREATED:20240903T101444Z
LAST-MODIFIED:20240903T101452Z
UID:4732-1726250400-1726275600@lavallee.brussels
SUMMARY:LaVallée's 9th Anniversary
DESCRIPTION: Join us to Celebrate 9 Years of LaVallée! \nDj sets  live music  performances  new mural  food  drinks\nAs we celebrate our 9th Anniversary\, we invite you to join us in honoring the journey we’ve taken together\, we couldn’t have done it without you. Here’s to nine years of creativity\, community\, and countless memories—let’s make some more! \n\n𝗙𝗨𝗟𝗟 𝗣𝗥𝗢𝗚𝗥𝗔𝗠\n𝗠𝘂𝘀𝗶𝗰 𝗖𝘂𝗿𝗮𝘁𝗲𝗱 𝗯𝘆 𝗠𝗼𝗹𝗶 𝗱𝗲𝗹 𝗧𝗿𝗼Moli del Tro DJ setLaVallée Dj setCinna PeyghamyHiele\n𝗣𝗲𝗿𝗳𝗼𝗿𝗺𝗮𝗻𝗰𝗲𝘀 by Garage29𝗠𝘂𝗿𝗮𝗹 by Yves Gallard𝗜𝗻 𝘁𝗵𝗲 𝗚𝗮𝗹𝗹𝗲𝗿𝘆 – Alec De Busschère. Memory Cache Collection 99Food by Krokett\nFREE ENTRANCE
URL:https://lavallee.brussels/event/lavallees-9th-anniversary/
LOCATION:LaVallée\, Rue Adolphe Lavallée 39\, Brussels\, 1080\, Belgique
ATTACH;FMTTYPE=image/png:https://lavallee.brussels/wp-content/uploads/2024/09/LV-9th-1920-x-1005-px-1.png
END:VEVENT
BEGIN:VEVENT
DTSTART;TZID=UTC:20240914T140000
DTEND;TZID=UTC:20240915T040000
DTSTAMP:20260420T054058
CREATED:20240903T101151Z
LAST-MODIFIED:20240903T101159Z
UID:4722-1726322400-1726372800@lavallee.brussels
SUMMARY:Loft Experience - Aura
DESCRIPTION:Loft Experience is back for its 4th edition and you better get ready!\nThis time we are taking over La Vallée\, a special place for Brussels culture\, for a slightly different concept. We are also celebrating Loft’s first anniversary (yeah we’re getting old) and we will mark the occasion with an event to remember.\nArtists :\nJekkamaïSoftyBilly BoyJohn GilliotazaParticule b2b LoursMaëlleMocaccinoNiko Hoke
URL:https://lavallee.brussels/event/loft-experience-aura/
LOCATION:LaVallée\, Rue Adolphe Lavallée 39\, Brussels\, 1080\, Belgique
ATTACH;FMTTYPE=image/jpeg:https://lavallee.brussels/wp-content/uploads/2024/09/456330522_122105739260478916_5102200965300258943_n.jpg
END:VEVENT
BEGIN:VEVENT
DTSTART;TZID=UTC:20240920T130000
DTEND;TZID=UTC:20240922T220000
DTSTAMP:20260420T054058
CREATED:20240813T093232Z
LAST-MODIFIED:20240813T093241Z
UID:4679-1726837200-1727042400@lavallee.brussels
SUMMARY:Hyperlien // festival pluridisciplinaire
DESCRIPTION:Festival pluridisciplinaire qui met à l’honneur la création sur internet.Trois jours d’expositions\, de concerts et DJ sets au travers de 3 espaces : Le Cube\, le rez0 et le live!\n˙⋆✮ Le Cube : un espace où l’expérience musicale prend une toute nouvelle dimension. Immergez-vous dans l’obscurité totale pour écouter des projets musicaux de manière consciente. Loin des distractions du quotidien et avec pour seul guide votre ouïe\, vous êtes invités à une expérience d’écoute profonde et immersive.\n˙⋆✮ Le rez0 : dans le Rez0\, on passe d’une pièce à l’autre comme on navigue d’un site à un autre en suivant des hyperliens. Chaque site (pièce) nous fait découvrir une pratique\, un·e artiste\, une expérience. Dans ces galeries en tissu à l’ambiance chaleureuse\, on croise des photos\, des illustrations\, de la peinture\, des créations textiles\, des installations interactives et des tatoueur·euse·s.\n˙⋆✮ live! : c’est une scène sur laquelle des artistes proposent un show. Que ce soit un full band\, des rappeur·se·s ou des DJs\, l’idée ici est de redonner de l’importance à la prestation scénique. Pour ce faire\, on met les moyens : show lumière\, VJ\, scénographie… Nous avons envie de proposer des concerts qui en jettent et qui se doivent d’être vus\, en live.\n\nProgrammation :▔▔▔▔▔▔▔▔TBA\n\nInfo pratiques :▔▔▔▔▔▔▔▔Du 20 au 22 septembre 2024À LaVallée : Rue Adolphe Lavallée 39\, 1080 Bruxelles
URL:https://lavallee.brussels/event/hyperlien-festival-pluridisciplinaire/
LOCATION:LaVallée\, Rue Adolphe Lavallée 39\, Brussels\, 1080\, Belgique
ATTACH;FMTTYPE=image/jpeg:https://lavallee.brussels/wp-content/uploads/2024/08/448404228_122093622488374252_3416579063960083179_n.jpg
END:VEVENT
BEGIN:VEVENT
DTSTART;TZID=UTC:20240927T210000
DTEND;TZID=UTC:20240928T043000
DTSTAMP:20260420T054058
CREATED:20240906T074311Z
LAST-MODIFIED:20240906T074636Z
UID:4746-1727470800-1727497800@lavallee.brussels
SUMMARY:10Set ERA - Fall Festival
DESCRIPTION: 𝐖𝐞𝐚𝐭𝐡𝐞𝐫 𝐀𝐥𝐞𝐫𝐭: 𝟏𝟎𝐒𝐄𝐓 𝐄𝐑𝐀 – 𝐅𝐀𝐋𝐋 𝐅𝐄𝐒𝐓𝐈𝐕𝐀𝐋\nBrussels\, brace yourselves! A powerful electronic cyclone is set to hit LaVallée on Friday\, September 27th. Expect heavy bass showers starting at 21:00\, with thunderous beats rolling in from Hysope\, Kōma\, Casper\, and Amalie. The pressure will intensify\, ensuring no calm before the storm ends at 04:00.\nAs fall sweeps in\, 10SET returns with a fresh wave of seasonal chaos. This is the next chapter in the 10SET ERA\, prepare for a night of electrifying DJ sets where the forecast is pure techno turbulence.\n——————𝗟𝗜𝗡𝗘 𝗨𝗣21:30 ‣ 𝐇𝐘𝐒𝐎𝐏𝐄 – Ghetto\, Latintech\, Baile funk23:00 ‣ 𝐊𝐎̄𝐌𝐀 – Bass\, IDM\, Jungle\, Rave00:30 ‣ 𝐂𝐀𝐒𝐏𝐄𝐑 – Bass\, IDM\, Breaks02:00 ‣ 𝐀𝐌𝐀𝐋𝐈𝐄 – Club\, Mental\, Minimal Techno——————\n𝗘𝗡𝗧𝗥𝗔𝗡𝗖𝗘Presale → (COMING)——————𝐋𝐚𝐕𝐚𝐥𝐥𝐞́𝐞\, Rue Adolphe Lavallée 39\, 1080 Bruxelles.Ribaucourt (Metro 2\, 6 – Tram 51 – Bus 20\, 49\, 86\, 87) Yser (Noctis 18)——————\n‣ 𝐇𝐘𝐒𝐎𝐏𝐄Hysope is a young Belgian-Togolese artist and DJ on the Brussels scene. Passionate about music of all styles\, they have developed a passion for ghetto\, latintech and baile funk\, not hesitating to surprise with sounds from other influences. They’ve also produced tracks for the theater\, in which you can feel their love for 80s synthesizers. The aim: to get you hot\, really hot.Insta: https://www.instagram.com/__hysope__/\n\n‣ 𝐊𝐎̄𝐌𝐀Kōma’s sets are a mix of Breakbeat\, Bass music\, IDM and jungle. Between 130 and 160 bpm\, his music speaks of the rave culture of the 90s and the breakbeat to make dance the rhythms and emotions. After playing at Fuse\, C12\, Listen Festival\, Dour Festival\, Reset\, Club Capital\, Circle Park\, ILLEGAAL\,… He grew day by day on the Belgian scene but also in Berlin\, Paris and Amsterdam.With his collective BREAXX\, he creates a new playground in Belgium to develop all the music of the United Kingdom\, from Idm concerts to underground clubbingInsta: https://www.instagram.com/koma_music_/Soundcloud: https://soundcloud.com/user-130031806Spotify: https://open.spotify.com/playlist/0wbnlcOsFY8C3S2aE5LOtQ…\n\n‣ 𝐂𝐀𝐒𝐏𝐄𝐑Casper is a Brussels-based DJ and composer. Born in the cold northern part of Karelia\, she has shaped her style from a classical music education\, Latin choreography\, and a love for big beat music from her brother’s cassettes. She specializes in thoughtfully blending Bass\, IDM\, and Breaks with a focus on building a long-term relationship with the crowd. Starting only a few years ago\, her nomadic trail has led her to live in cities like Tbilisi\, Yerevan\, Bucharest\, and Brussels\, opening her up to sets at clubs like Left Bank\, PekFabrik\, Chinastraat\, the Office\, MOCT\, and Control\, and to supporting the likes of Acid Arab\, Helena Hauff\, and Madam X along the way.Insta: http://instagram.com/casper.kaa/Soundcloud: https://soundcloud.com/casperkaa\n\n\n‣ 𝐀𝐌𝐀𝐋𝐈𝐄Amalie is a DJ from Brussels and co-founder of the MÉTA collective. She thrives on techno sounds\, mainly mental\, hypnotic and organic\, and finds her inspiration in the Berlin\, Amsterdam and especially Brussels underground scenes. Her sets are eclectic\, club-like\, bewitching and energetic. You’ve met her behind the decks at : Fuse\, Le Barrio\, Jardin Hospice\, Kultura Liège but also in Namur and Louvain-la-Neuve\, or in different podcasts for Jam RTBF or Abstract collective.Insta: https://www.instagram.com/amaliedeneyer/Soundcloud: https://soundcloud.com/amalie-deneyer——————\nDesign by D-E-A-L
URL:https://lavallee.brussels/event/10set-era-fall-festival/
LOCATION:LaVallée\, Rue Adolphe Lavallée 39\, Brussels\, 1080\, Belgique
ATTACH;FMTTYPE=image/jpeg:https://lavallee.brussels/wp-content/uploads/2024/09/458209502_496424373340238_3361229175554221369_n.jpg
END:VEVENT
END:VCALENDAR