BEGIN:VCALENDAR
VERSION:2.0
PRODID:-//LaVallee - ECPv6.13.2.1//NONSGML v1.0//EN
CALSCALE:GREGORIAN
METHOD:PUBLISH
X-ORIGINAL-URL:https://lavallee.brussels
X-WR-CALDESC:Évènements pour LaVallee
REFRESH-INTERVAL;VALUE=DURATION:PT1H
X-Robots-Tag:noindex
X-PUBLISHED-TTL:PT1H
BEGIN:VTIMEZONE
TZID:UTC
BEGIN:STANDARD
TZOFFSETFROM:+0000
TZOFFSETTO:+0000
TZNAME:UTC
DTSTART:20240101T000000
END:STANDARD
END:VTIMEZONE
BEGIN:VEVENT
DTSTART;TZID=UTC:20240715T080000
DTEND;TZID=UTC:20240815T170000
DTSTAMP:20260420T072427
CREATED:20240603T095638Z
LAST-MODIFIED:20240603T095647Z
UID:4572-1721030400-1723741200@lavallee.brussels
SUMMARY:CLOSED FOR SUMMER BREAK
DESCRIPTION:
URL:https://lavallee.brussels/event/closed-for-summer-break/
ATTACH;FMTTYPE=image/jpeg:https://lavallee.brussels/wp-content/uploads/2024/06/tim-mossholder-C8jNJslQM3A-unsplash-scaled.jpg
END:VEVENT
BEGIN:VEVENT
DTSTART;TZID=UTC:20240829T170000
DTEND;TZID=UTC:20240830T000000
DTSTAMP:20260420T072427
CREATED:20240805T124616Z
LAST-MODIFIED:20240805T124813Z
UID:4640-1724950800-1724976000@lavallee.brussels
SUMMARY:GROW FESTIVAL 4
DESCRIPTION:GROW est de retour cet été et prêt à revenir en force !\nRejoins-nous pour la quatrième édition du Grow Festival \nAu programme: des concerts et des expos pour tous les goûts\, de quoi manger\, boire\, et toutes les conditions réunies pour que tu passes une soirée à (re)découvrir une série d’artistes émergent•es bruxellois•es et le projet du collectif Grow.\n\n29 août\nLaVallée\n17h – 00 h\n Prix libre\n Nourriture et boissons sur place\n\nLINE UP : TO BE ANNOUNCED\n\nA propos de GROW:\nGROW est un collectif bruxellois composé de musicien·ne·s passionné·e·s qui\, à travers l’organisation d’événements culturels\, visent à promouvoir l’essor et la mise en lumière d’artistes émergent·e·s.\nSafer event:\nEn accord avec les valeurs de notre collectif\, le Grow Festival se veut être le plus safe et inclusif possible.\nAucune forme de discrimination\, de stigmatisation ou d’oppression ne sera tolérée au sein de l’événement. Nous vous invitons à adopter un comportement respectueux envers chaque personne présente (public\, technicien•nes\, artistes\, bénévoles).\nEn cas de problème\, une care team de bénévoles sera disponible pendant toute la durée du festival. Notre charte sera aussi mise à votre disposition.\nPrenez soin de vous\, des autres\, et aidez-nous à faire du Grow Festival un espace bienveillant\, festif et agréable pour tous•tes :))
URL:https://lavallee.brussels/event/grow-festival-4/
ATTACH;FMTTYPE=image/jpeg:https://lavallee.brussels/wp-content/uploads/2024/08/453399157_122183113742063850_8023062575169169330_n.jpg
END:VEVENT
BEGIN:VEVENT
DTSTART;TZID=UTC:20240830T180000
DTEND;TZID=UTC:20240830T233000
DTSTAMP:20260420T072427
CREATED:20240805T125549Z
LAST-MODIFIED:20240805T125549Z
UID:4649-1725040800-1725060600@lavallee.brussels
SUMMARY:Vernissage Alec de Buscchère : Memory Cache Collection
DESCRIPTION:Vernissage———–\n\nAlec De Busschère. Memory Cache Collection 99ᴍᴀᴄs. ɢʀᴀɴᴅ-ʜᴏʀɴᴜ | ᴇxᴛʀᴀ-ᴍᴜʀᴏs. ʙʀᴜxᴇʟʟᴇs30.08.2024\n\n\n\nNous avons le plaisir de vous inviter à l’inauguration de l’exposition consacrée à Alec De Busschère le vendredi 30 août à 18h.\n\nExposition accessible jusqu’au 22 septembre 2024\n\n\n► MACS. Grand-Hornu | Extra-muros. Bruxelles► Adresse : Bloc 5 | Rue du Ruisseau\, 37 – 1080 Bruxelles► Horaires : mercredi – dimanche | 14h – 19h\n\nInfos : mac-s.beRéservations : https://form.jotform.com/241983042102346\nPartenaires : Fédération Wallonie – Bruxelles\, LaVallée\, Archer & Weaver
URL:https://lavallee.brussels/event/vernissage-alec-de-buscchere-memory-cache-collection/
LOCATION:LaVallée\, Rue Adolphe Lavallée 39\, Brussels\, 1080\, Belgique
ATTACH;FMTTYPE=image/jpeg:https://lavallee.brussels/wp-content/uploads/2024/08/454237735_1033051858825569_8557331752885708724_n.jpg
END:VEVENT
BEGIN:VEVENT
DTSTART;TZID=UTC:20240831T140000
DTEND;TZID=UTC:20240901T040000
DTSTAMP:20260420T072427
CREATED:20240805T125317Z
LAST-MODIFIED:20240805T125423Z
UID:4654-1725112800-1725163200@lavallee.brussels
SUMMARY:Parallaxe : ArtGroove Fusion #3
DESCRIPTION:[FRANÇAIS & ENGLISH]\nNous revoilà ! \nOn repart pour une 3ème édition de ArtGroove Fusion à LaVallée\, un long format mêlant art et musique en faisant un focus sur nos talents bruxellois\, ceci de 14h à 04h en mode Open Air puis Club ! \nAlors\, le programme ?\n 14h à 22h : Exposition\, marché de créateurs\, vintage market\, tooth gems\, nail art et même food truck… tout ceci en occupant l’espace intérieur et extérieur de LaVallée.\nNous avons le plaisir d’accueillir le Crew High Contact\, collectif talentueux souvent présent au UMI\, vous pourrez vous déhancher sur leurs sons dans la cour avec le soleil en format Open Air.\n22h à 04h : Une fois la nuit tombée\, nous remettons le système son à l’intérieur\, les exposants plient bagages et nous passerons en mode club !\nPour cette troisième édition\, nous accueillons avec un immense plaisir deux talents\, Redd\, artiste bruxellois que l’on ne présente plus et Ugzr du collectif méta. Les résidents et fondateurs Seter et Unsung se retrouveront pour un B2B.\nUne nouvelle fois l’événement s’annonce grandiose\, très hâte de vous retrouver__________\nINFOS PRATIQUES\nDj Set Open Air (House – Electro)High Contact Crew__________Exhibition DayEh Ma Frip (Friperie)On View (Lunettes)Lenkatané (Tattoo)Aanaray.Ink (Tattoo)ZZ Custom (Créatrice Mode)Left (Créateur Mode)Little Freak Studio (Créatrice Mode)Line Pake (Art visuel)Folies de Lari (Art visuel)Mary White (Tufting)Act like a star (Créatrice Bijoux)Abnormal (Créatrice Bijoux)Sagirlznailzzz (Nail Art)Brillezbrussels (Bijoux Dentaire)__________Dj Set Club (Techno/Groove)ReddUgzrSeterUnsung__________Los Cubas (Food Truck)__________________EntréeAccès Gratuit avant 21h30Accès Payant après 21h30Early Bird : 5€ avant 22hPlein Tarif : 10€ après 22h__________________D&B SOUNDSYSTEMHigh quality__________LavalléeRue Adolphe Lavallée 391080 Brussels__________IMPORTANTParallaxe events ne tolère aucun acte de discrimination\, de harcèlement moral ou physique. Nous mettons tout en œuvre pour que nos événements soient sûrs et sécurisés pour tous. Toute personne reproduisant l’un de ces comportements problématiques lors de nos événements sera bannie à vie.\n\n\nWe’re back! \nWe were working this summer to organize the 3rd edition of Artgroove Fusion at LaVallée with a long format mixing art and music with a focus on our Brussels talents\, this from 2pm to 4am in Open Air then Club mode! \nSo\, what’s on the agenda?\n 2pm to 10pm: Exhibition\, designer market\, vintage market\, tooth gems\, nail art and even food truck… all this occupying @lavalle’s indoor and outdoor space.\nThe large outdoor courtyard will serve as an open air area. We’re pleased to welcome Crew High Contact\, a talented collective often featured at UMI.\n22h to 04h: Once night falls\, we’ll bring the sound system back inside\, the exhibitors will pack up and we’ll switch to club mode inside.\nFor this third edition\, we’re delighted to welcome two talented artists: Redd\, a Brussels artist who needs no introduction\, and Ugzr from the meta collective. Residents and founders Seter and Unsung will join us for a B2B.\nOnce again\, the event promises to be grandiose\, and we look forward to seeing you there!__________PRACTICAL INFO\n Dj Set Open Air (House – Electro)High Contact Crew__________ Exhibition DayEh Ma Frip (Friperie)On View (Glasses)Lenkatané (Tattoo)Aanaray.Ink (Tattoo)ZZ Custom (Fashion Designer)Left (Fashion Designer)Little Freak Studio (Fashion Designer)Petroushkaka (Visual art)Act like a star (Jewelry Designer)Abnormal (Jewelry Designer)Sagirlznailzzz (Nail Art)Brillezbrussels (Tooth Gems)__________Dj Set Club (TechnoReddUgzrSeterUnsung__________Los Cubas (Food Truck)__________________Admission\nFree admission before 9.30pmPaid admission after 9:30pmEarly Bird: 5€ before 10pmFull Price: 10€ after 10pm__________________D&B SOUNDSYSTEMHigh quality__________LavalléeRue Adolphe Lavallée 391080 Brussels__________\n\n IMPORTANTParallaxe events does not tolerate any act of discrimination\, moral or physical harassment. We make every effort to ensure that our events are safe and secure for everyone. Anyone reproducing any of these problematic behaviors at our events will be banned for life. \nVoir moins
URL:https://lavallee.brussels/event/parallaxe-artgroove-fusion-3/
LOCATION:LaVallée\, Rue Adolphe Lavallée 39\, Brussels\, 1080\, Belgique
ATTACH;FMTTYPE=image/jpeg:https://lavallee.brussels/wp-content/uploads/2024/08/452694606_122155561988123188_4096857227520707295_n.jpg
END:VEVENT
END:VCALENDAR