BEGIN:VCALENDAR
VERSION:2.0
PRODID:-//LaVallee - ECPv6.13.2.1//NONSGML v1.0//EN
CALSCALE:GREGORIAN
METHOD:PUBLISH
X-WR-CALNAME:LaVallee
X-ORIGINAL-URL:https://lavallee.brussels
X-WR-CALDESC:Évènements pour LaVallee
REFRESH-INTERVAL;VALUE=DURATION:PT1H
X-Robots-Tag:noindex
X-PUBLISHED-TTL:PT1H
BEGIN:VTIMEZONE
TZID:UTC
BEGIN:STANDARD
TZOFFSETFROM:+0000
TZOFFSETTO:+0000
TZNAME:UTC
DTSTART:20250101T000000
END:STANDARD
END:VTIMEZONE
BEGIN:VEVENT
DTSTART;VALUE=DATE:20250509
DTEND;VALUE=DATE:20250525
DTSTAMP:20260419T173855
CREATED:20250403T101114Z
LAST-MODIFIED:20250510T193035Z
UID:5324-1746766800-1748062799@lavallee.brussels
SUMMARY:Marc Martin - Mauvaises Vies ?
DESCRIPTION:Faire de l’altérité une force\, de nos diversités une richesse. S’unir dans nos différences par nos différences.\nAvec l’exposition « MAUVAISES VIES ? » qui ouvre la semaine de la Pride à Bruxelles\, l’artiste Marc Martin envoie un message clair : Toutes les vies se valent. Au sein de la communauté LGBTQI+\, protéger les plus vulnérables d’entre nous. LaVallée\, centre culturel et de convivialité\, est le lieu propice.\nLa scénographie s’appuie sur cette idée de protection et s’articule autour de « Safe Places ». Confronté aux résistances et aux obstacles\, le public sera incité à enrichir sa compréhension des enjeux de la lutte pour l’émancipation et contre la stigmatisation.\nL’exposition s’ouvre à un érotisme décomplexé. Au regard de l’évolution des mentalités actuelles\, l’intime dans l’art reste un point d’achoppement politique. Marc Martin révèle des tranches de vies dépassant\, sans les exclure\, les représentations hétéronormées. En observant le regard que l’on pose sur le corps et la sexualité\, il interroge notre époque par ailleurs gorgée d’obscénité : Que peut-on afficher ? Que doit-on maintenir caché ?\nComposée de nouveautés et de photographies / installations parmi les récents projets de Marc Martin\, « MAUVAISES VIES ? » à LaVallée-Bruxelles se veut inclusive et fédérative. Une exposition sans indulgence pour l’étroitesse d’esprit\, la pudibonderie et le repli sur soi. Suis-je « normal·e »\, « anormal·e » ? La question ne se pose plus.\n\nMarc Martin\, « MAUVAISES VIES ? » LaVallée-Bruxelles Exposition gratuite du 9 au 23 mai 2025\n13h – 20h\n\nPerformances\, débats\, Clubbing\, Safe place…
URL:https://lavallee.brussels/event/marc-martin-mauvaises-vies/
LOCATION:LaVallée\, Rue Adolphe Lavallée 39\, Brussels\, 1080\, Belgique
ATTACH;FMTTYPE=image/jpeg:https://lavallee.brussels/wp-content/uploads/2025/04/FACEBOOK-MAUVAISES-VIES-2psd.jpg
END:VEVENT
END:VCALENDAR