BEGIN:VCALENDAR
VERSION:2.0
PRODID:-//LaVallee - ECPv6.13.2.1//NONSGML v1.0//EN
CALSCALE:GREGORIAN
METHOD:PUBLISH
X-ORIGINAL-URL:https://lavallee.brussels
X-WR-CALDESC:Évènements pour LaVallee
REFRESH-INTERVAL;VALUE=DURATION:PT1H
X-Robots-Tag:noindex
X-PUBLISHED-TTL:PT1H
BEGIN:VTIMEZONE
TZID:UTC
BEGIN:STANDARD
TZOFFSETFROM:+0000
TZOFFSETTO:+0000
TZNAME:UTC
DTSTART:20250101T000000
END:STANDARD
END:VTIMEZONE
BEGIN:VEVENT
DTSTART;TZID=UTC:20250426T130000
DTEND;TZID=UTC:20250427T020000
DTSTAMP:20260419T192711
CREATED:20250417T120108Z
LAST-MODIFIED:20250417T120138Z
UID:5359-1745672400-1745719200@lavallee.brussels
SUMMARY:2 Years Anniversary - Bandz and Crafts // Local Craft Market & Concerts
DESCRIPTION:For this special edition\, we’re celebrating the 2nd anniversary of our collective with a brand-new format: BandzAndCraftz! This time\, we’re not just bringing you a killer lineup\, but also an all-day event combining music\, arts\, and community.\nJoin us at LaVallée for an afternoon market featuring tattoos\, thrift clothes\, jewelry\, vintage decoration\, illustrations\, ceramics\, and much more\, followed by an electrifying night of live performances! \n🎸 LINE-UP\n🔥 STAKATTAK (BE) – A high-voltage trio combining surf rock\, punk\, and psych influences\, delivering electrifying grooves and frenetic energy on stage.\n🔥 STONKS (BE) – Brussels-based garage punk that hits hard with high-energy riffs and an unapologetic DIY spirit. Expect fast tempos and infectious chaos.\n🔥 PURRSES (BE) – Dreamy yet gritty\, Purrses merges shoegaze textures with post-punk urgency\, creating an atmospheric and emotionally charged soundscape.\n🔥 ANAMESA (BE) – A powerful fusion of progressive and psych rock\, Anamesa delivers raw and intense performances\, blending heavy riffs with hypnotic rhythms.\n🔥 TIM HOLEHOUSE (UK) – A one-man folk-punk storyteller from the UK\, mixing raw\, heartfelt lyrics with bluesy guitar work and a rebellious edge. \n🛍️ MARKET (13:00 – 19:00)\nFree entrance at the market\nCome early and browse through a unique selection of tattoos\, thrift clothes\, jewelry\, vintage decoration\, illustrations\, ceramics\, etc. More info very soon about the participants 👀\n🍽️ FOOD & DRINKS\nFood will be available throughout the afternoon and evening\, so you can enjoy a bite while exploring the market or between concerts!\n🎶 CONCERTS START AT 19:30 \n🎟 TICKETS\nOnly for the concerts\nPresale: 15€\nAt the door: 18€\n📍LOCATION\nLaVallée\nRue Adolphe Lavallée 39\n1080 Bruxelles \n🏃🏻‍♀️ HOW TO GET THERE\nMetro : 1\, 2\, 5\, 6 / Ribaucourt or Comte de Flandre\nTram : 51\nBus : 20\, 89 \n⛔️ SAFE POLICY\nWe won’t tolerate ANY oppressive and discriminatory behaviors such as racism\, sexism\, transphobia\, body shaming\, ableism\, agism. We will not tolerate toxic masculinities. Respect\, support and act kindly with each other. Ask for help from the team (organisers and bar staff) if you witness or are the victim of any kind of violent\, discriminative or oppressive behaviour.\nThanks to Stella Schwake for the artwork ❤️\n——————————————————————————————————\nDeze speciale editie vieren we de 2e verjaardag van ons collectief met een gloednieuw concept: BandzAndCraftz! Dit keer brengen we niet alleen een geweldige line-up\, maar ook een hele dag vol muziek\, kunst en community.\nKom langs bij LaVallée voor een middagmarkt met tatoeages\, tweedehands kleding\, juwelen\, vintage decoratie\, illustraties\, keramiek en nog veel meer\, gevolgd door een knallende avond vol live-optredens! \n🎸 LINE-UP\n🔥 STAKATTAK (BE) – Ruwe\, snelle en compromisloze punk recht uit Brussel. Scherpe riffs\, brute energie en een explosieve podiumprésence — Stakattak geeft je een rechtstreekse mokerslag.\n🔥 STONKS (BE) – Brusselse garagepunk die hard binnenkomt met energieke riffs en een onverschrokken DIY-mentaliteit. Verwacht snelle tempo’s en aanstekelijke chaos.\n🔥 PURRSES (BE) – Dromerig maar rauw\, Purrses combineert\nshoegaze-texturen met postpunk-energie voor een meeslepende en emotioneel geladen sound.\n🔥 ANAMESA (BE) – Een krachtige mix van progressieve en psychedelische rock\, met intense optredens\, zware riffs en hypnotiserende ritmes.\n🔥 TIM HOLEHOUSE (UK) – Een folkpunk-verhalenverteller uit het VK\, die eerlijke\, rauwe teksten combineert met bluesy gitaarwerk en een rebelse edge. \n🛍️ MARKT (13:00 – 19:00)\nGratis toegang\nKom vroeg en ontdek een unieke selectie van tatoeages\, tweedehands kleding\, juwelen\, vintage decoratie\, illustraties\, keramiek\, en meer. Meer info over de deelnemers binnenkort 👀 \n🍽️ ETEN & DRINKEN\nDe hele namiddag en avond is er eten beschikbaar\, zodat je tussendoor iets kunt eten terwijl je de markt verkent of tussen de concerten door! \n🎶 CONCERTEN STARTEN OM 19:30 \n🎟 TICKETS\nAlleen voor de concerten\n🎫 Voorverkoop: 15€\n🎫 Aan de deur: 18€
URL:https://lavallee.brussels/event/2-years-anniversary-bandz-and-crafts-local-craft-market-concerts/
LOCATION:LaVallée\, Rue Adolphe Lavallée 39\, Brussels\, 1080\, Belgique
ATTACH;FMTTYPE=image/jpeg:https://lavallee.brussels/wp-content/uploads/2025/04/492061915_619496764422447_7899052020113130380_n.jpg
END:VEVENT
END:VCALENDAR