BEGIN:VCALENDAR
VERSION:2.0
PRODID:-//LaVallee - ECPv6.13.2.1//NONSGML v1.0//EN
CALSCALE:GREGORIAN
METHOD:PUBLISH
X-WR-CALNAME:LaVallee
X-ORIGINAL-URL:https://lavallee.brussels
X-WR-CALDESC:Évènements pour LaVallee
REFRESH-INTERVAL;VALUE=DURATION:PT1H
X-Robots-Tag:noindex
X-PUBLISHED-TTL:PT1H
BEGIN:VTIMEZONE
TZID:UTC
BEGIN:STANDARD
TZOFFSETFROM:+0000
TZOFFSETTO:+0000
TZNAME:UTC
DTSTART:20250101T000000
END:STANDARD
END:VTIMEZONE
BEGIN:VEVENT
DTSTART;TZID=UTC:20250308T140000
DTEND;TZID=UTC:20250309T040000
DTSTAMP:20260419T210758
CREATED:20250228T110319Z
LAST-MODIFIED:20250228T110329Z
UID:5176-1741442400-1741492800@lavallee.brussels
SUMMARY:BX Live Festival 2025
DESCRIPTION:BX.LIVE IS BACK! \n100% BXL\, 100% young talent\, multidisciplinary\, and just pure good vibes.\nOn March 8\, we’re turning LaVallée into a playground of music\, art\, and performance. From 2 PM\, step into our free afternoon and soak up the 16-degree terrace vibes\, live radio by XLAIR\, and open decks.\nInside\, dig through a closet & vinyl sale by BIZA\, explore the expo by Maxine Willaert\, and vibe to DJ sets by 96 Residents.\nAs the sun sets\, the night ignites. From 5 PM till late\, expect live music\, DJ sets\, live painting\, circus\, pop-up hair salon\, scenography\, and much much more.\n It’s gonna be BIG. Don’t miss out – grab your tickets now! https://bxlive.entree.brussels\n\n– PROGRAM –\n\n14:00-17:00FREE AFTERNOON\n\nOUTDOOR 16 degree terras vibes XLAIR live radio OPEN DECKS→ Send in your DJ mix: https://dj.entree.brussels\n\nINDOOR CLOSET & VINYL SALE by BIZA EXPO by MAXINE WILLAERT DJ SETS by 96 Residents→ METAUX\, OKIMA\, WHITEWASH\, WOUT\n\n17:00-04:00 Tickets – https://bxlive.entree.brussels\n\nOUTDOOR until 22:00 LIVE PERFORMANCE by DROM 16 degree terras vibes XLAIR live radio OPEN DECKS→ Send in your DJ mix: https://dj.entree.brussels\n\nINDOOR\n LIVE MUSIC by→ BSFOE→ BX.MUSIC LAB – live jam powered by De Branding→ THE FLEMISH PRIMITIVES→ JOËL FRANCIS→ SLAGADER→ VORAD\n DJ SETS by→ BO JANE→ KATTENKWAAD\n LIVE PAINTING by DEMO POP-UP HAIRSALON by K(L)APSALON CIRCUS PERFORMANCE by MARIE PARRINET EXPO by MAXINE WILLAERT SCENOGRAPHY by WEAREARETITS\n\n Tickets – https://bxlive.entree.brussels
URL:https://lavallee.brussels/event/bx-live-festival-2025/
LOCATION:LaVallée\, Rue Adolphe Lavallée 39\, Brussels\, 1080\, Belgique
ATTACH;FMTTYPE=image/jpeg:https://lavallee.brussels/wp-content/uploads/2025/02/475544409_122222200262026121_3890235188655584272_n-1.jpg
END:VEVENT
END:VCALENDAR