BEGIN:VCALENDAR
VERSION:2.0
PRODID:-//LaVallee - ECPv6.13.2.1//NONSGML v1.0//EN
CALSCALE:GREGORIAN
METHOD:PUBLISH
X-ORIGINAL-URL:https://lavallee.brussels
X-WR-CALDESC:Évènements pour LaVallee
REFRESH-INTERVAL;VALUE=DURATION:PT1H
X-Robots-Tag:noindex
X-PUBLISHED-TTL:PT1H
BEGIN:VTIMEZONE
TZID:UTC
BEGIN:STANDARD
TZOFFSETFROM:+0000
TZOFFSETTO:+0000
TZNAME:UTC
DTSTART:20250101T000000
END:STANDARD
END:VTIMEZONE
BEGIN:VEVENT
DTSTART;TZID=UTC:20250220T180000
DTEND;TZID=UTC:20250301T180000
DTSTAMP:20260419T224722
CREATED:20250206T091756Z
LAST-MODIFIED:20250206T092107Z
UID:5086-1740074400-1740852000@lavallee.brussels
SUMMARY:Parallel - Expo
DESCRIPTION:Néerlandais\n20.02 – 01.03\nLaVallée\nAdolphe Lavalléestraat 39\n1080 Brussel \nEen expo door de leerkrachten van Academie Beeldende & Audiovisuele Kunsten Anderlecht \nVernissage 20.02.25 – 18u\nFinnisage 01.03.25 – 18u \nma-vrij: 14u-18u / za-zo: 12u-18u \nAdem kunst\, kunst doet vrij ademen \nFrançais\n20.02 – 01.03\nLaVallée\nRue Adolphe Lavallée 39\n1080 Bruxelles \nUne exposition par les enseignants de l’Académie des Arts Visuels et Audiovisuels d’Anderlecht \nVernissage le 20.02.25 à 18h\nClôture le 01.03.25 à 18h \nlun-ven : 14h-18h / sam-dim : 12h-18h \nRespirez l’art\, l’art vous libère \nAnglais\n20.02 – 01.03\nLaVallée\n39 Adolphe Lavallée Street\n1080 Brussels \nAn exhibition by the teachers of the Anderlecht Academy of Visual and Audiovisual Arts \nOpening on 20.02.25 at 6 PM\nClosing on 01.03.25 at 6 PM \nMon-Fri: 2 PM-6 PM / Sat-Sun: 12 PM-6 PM \nBreathe art\, art sets you free
URL:https://lavallee.brussels/event/parallel-expo/
LOCATION:LaVallée\, Rue Adolphe Lavallée 39\, Brussels\, 1080\, Belgique
ATTACH;FMTTYPE=image/png:https://lavallee.brussels/wp-content/uploads/2025/02/Parallel_Poster_A2.png
END:VEVENT
END:VCALENDAR