BEGIN:VCALENDAR
VERSION:2.0
PRODID:-//LaVallee - ECPv6.13.2.1//NONSGML v1.0//EN
CALSCALE:GREGORIAN
METHOD:PUBLISH
X-ORIGINAL-URL:https://lavallee.brussels
X-WR-CALDESC:Évènements pour LaVallee
REFRESH-INTERVAL;VALUE=DURATION:PT1H
X-Robots-Tag:noindex
X-PUBLISHED-TTL:PT1H
BEGIN:VTIMEZONE
TZID:UTC
BEGIN:STANDARD
TZOFFSETFROM:+0000
TZOFFSETTO:+0000
TZNAME:UTC
DTSTART:20250101T000000
END:STANDARD
END:VTIMEZONE
BEGIN:VEVENT
DTSTART;TZID=UTC:20250215T093000
DTEND;TZID=UTC:20250216T170000
DTSTAMP:20260420T003532
CREATED:20250106T100722Z
LAST-MODIFIED:20250106T100722Z
UID:5047-1739611800-1739725200@lavallee.brussels
SUMMARY:Salon du fil
DESCRIPTION:Le premier festival belge des passionnés de tricot\, de couture et de broderie à faire soi-même 15 et 16 février 2025 \nLe Bruxelles Festival du Fil est un salon de créateurs autour du DIY pour tricot\, couture\, crochet et broderie à faire soi-même. C’est un espace où les passionnées des arts créatifs se retrouvent\, le temps d’un week-end\, et peuvent exprimer pleinement leur folie du fil. \nMais le Bruxelles Festival du Fil n’est pas un simple salon\, c’est un festival ! \nUn festival un rien décalé\, décidément créatif\, complètement engagé pour proposer un évènement unique et certainement contaminé par la belgian-touch et le grain de folie du plat-pays. \nGardez vos deux yeux grand ouverts. Sur le fil\, tout peut arriver… \nLocalisation \nLaVallée \nRue Adolphe Lavallée 39\, 1080 Bruxelles \nHoraires \nSamedi 15 février: 09h30-19h \nDimanche 16 février: 09h30-17h \nAccessibilité \nMetro: ligne 1\, 2\, 5\, 5 Ricaubourt / Comte de Flandre \nTram: 51 Ribaucourt \nBus: 20\, 86 Ribaucourt \nTrain: Gare du Nord / Gare de l’Ouest \nEspace principal accessible aux PMR \nBillet \nPrix des billets\, préventes\, conditions et réservations billetterie en ligne https://www.billetweb.fr/bruxelles-festival-du-fil
URL:https://lavallee.brussels/event/salon-du-fil/
LOCATION:LaVallée\, Rue Adolphe Lavallée 39\, Brussels\, 1080\, Belgique
ATTACH;FMTTYPE=image/webp:https://lavallee.brussels/wp-content/uploads/2025/01/BruxellesFestivalFil-AfficheA3-ruban-1209-2-1097x1536-1.webp
END:VEVENT
END:VCALENDAR