BEGIN:VCALENDAR
VERSION:2.0
PRODID:-//LaVallee - ECPv6.13.2.1//NONSGML v1.0//EN
CALSCALE:GREGORIAN
METHOD:PUBLISH
X-WR-CALNAME:LaVallee
X-ORIGINAL-URL:https://lavallee.brussels
X-WR-CALDESC:Évènements pour LaVallee
REFRESH-INTERVAL;VALUE=DURATION:PT1H
X-Robots-Tag:noindex
X-PUBLISHED-TTL:PT1H
BEGIN:VTIMEZONE
TZID:UTC
BEGIN:STANDARD
TZOFFSETFROM:+0000
TZOFFSETTO:+0000
TZNAME:UTC
DTSTART:20250101T000000
END:STANDARD
END:VTIMEZONE
BEGIN:VEVENT
DTSTART;TZID=UTC:20250124T190000
DTEND;TZID=UTC:20250125T233000
DTSTAMP:20260420T021839
CREATED:20250106T101607Z
LAST-MODIFIED:20250106T101627Z
UID:5055-1737745200-1737847800@lavallee.brussels
SUMMARY:Du F dans le texte
DESCRIPTION:𝐃𝐮 𝐅. 𝐃𝐚𝐧𝐬 𝐥𝐞 𝐓𝐞𝐱𝐭𝐞 est un tremplin musical qui s’adresse aux artistes et groupes\, amateur·ices ou semi-professionnel·les\, domicilié·es en Fédération Wallonie-Bruxelles et pratiquant un répertoire original d’expression francophone en musiques actuelles. Le tremplin est ouvert à tous les styles – rock\, pop\, hip hop\, chanson\, électro\, etc.\nUn jury composé de professionnel·les du secteur musical sélectionne les candidat·es qui se resprésentent\, en live\, à LaVallée\, pour les demi-finales. \n𝗩𝗲𝗻𝗱𝗿𝗲𝗱𝗶 𝟮𝟰 𝗷𝗮𝗻𝘃𝗶𝗲𝗿\n– 1ère demi-finale –\n19h30 · Ouverture des portes\n20h · Joshua\n20h40 · Anjees G.G.\n21h20 · Taunz\n22h · Yeux Nuit \n𝗦𝗮𝗺𝗲𝗱𝗶 𝟮𝟱 𝗷𝗮𝗻𝘃𝗶𝗲𝗿\n– 2ème demi-finale –\n20h · Alster\n20h40 · Bilou\n21h20 · cheapjewels\n22h · Yirji \n→ Entrée LIBRE & GRATUITE
URL:https://lavallee.brussels/event/du-f-dans-le-texte/
LOCATION:LaVallée\, Rue Adolphe Lavallée 39\, Brussels\, 1080\, Belgique
ATTACH;FMTTYPE=image/jpeg:https://lavallee.brussels/wp-content/uploads/2025/01/470680346_1140541151413046_1510624520083697818_n.jpg
END:VEVENT
END:VCALENDAR