BEGIN:VCALENDAR
VERSION:2.0
PRODID:-//LaVallee - ECPv6.13.2.1//NONSGML v1.0//EN
CALSCALE:GREGORIAN
METHOD:PUBLISH
X-ORIGINAL-URL:https://lavallee.brussels
X-WR-CALDESC:Évènements pour LaVallee
REFRESH-INTERVAL;VALUE=DURATION:PT1H
X-Robots-Tag:noindex
X-PUBLISHED-TTL:PT1H
BEGIN:VTIMEZONE
TZID:UTC
BEGIN:STANDARD
TZOFFSETFROM:+0000
TZOFFSETTO:+0000
TZNAME:UTC
DTSTART:20240101T000000
END:STANDARD
END:VTIMEZONE
BEGIN:VEVENT
DTSTART;TZID=UTC:20241208T143000
DTEND;TZID=UTC:20241208T190000
DTSTAMP:20260420T021224
CREATED:20241125T092821Z
LAST-MODIFIED:20241125T092830Z
UID:4985-1733668200-1733684400@lavallee.brussels
SUMMARY:Coup/e container #3
DESCRIPTION:And here we are\, the return of the Container!!\nThe lineup for this next edition\n5 Contemporary Dance work in progress + live electronics\n2 concerts\nHalehan (concert)\nAgathe Tarillon\nClelia Patrono and Adriano Cangemi\nBlanca Lo Verde\nJenn Hutt\nVictoria Kennett\nThi-mai Nguyen and Marion Faure\nHSRS (concert)\nA starry thanks to @ej.akin for this beautiful visual.\nThanks La Vallee for housing us.\nWHAT TO KNOW🎟 donation based // suggestion at the door\, payable in cash and card!\n———————————————\n🍺 BAR OPER 14:30h\n🎪 START 15h\n🌮 BRING CASH FOR SNACK\n—————————————————\nWhere LaVallée @lavallee_bxl Rue Adolphe LaVallée 391080 Brussels
URL:https://lavallee.brussels/event/coup-e-container-3/
LOCATION:LaVallée\, Rue Adolphe Lavallée 39\, Brussels\, 1080\, Belgique
ATTACH;FMTTYPE=image/jpeg:https://lavallee.brussels/wp-content/uploads/2024/11/466392365_122154294446282585_7765063545909543723_n-1.jpg
END:VEVENT
END:VCALENDAR