BEGIN:VCALENDAR
VERSION:2.0
PRODID:-//LaVallee - ECPv6.13.2.1//NONSGML v1.0//EN
CALSCALE:GREGORIAN
METHOD:PUBLISH
X-WR-CALNAME:LaVallee
X-ORIGINAL-URL:https://lavallee.brussels
X-WR-CALDESC:Évènements pour LaVallee
REFRESH-INTERVAL;VALUE=DURATION:PT1H
X-Robots-Tag:noindex
X-PUBLISHED-TTL:PT1H
BEGIN:VTIMEZONE
TZID:UTC
BEGIN:STANDARD
TZOFFSETFROM:+0000
TZOFFSETTO:+0000
TZNAME:UTC
DTSTART:20240101T000000
END:STANDARD
END:VTIMEZONE
BEGIN:VEVENT
DTSTART;TZID=UTC:20241024T180000
DTEND;TZID=UTC:20241102T200000
DTSTAMP:20260420T053936
CREATED:20240917T074645Z
LAST-MODIFIED:20240917T074645Z
UID:4765-1729792800-1730577600@lavallee.brussels
SUMMARY:Expo Holga 48 --- Fabien Ruyssen
DESCRIPTION:The Palm beach est heureux de vous inviter à découvrir « Holga 48 »\, une exposition immersive fascinante de Fabien Ruyssen. Plongez le temps d’un instant dans un cycle temporel surprenant !\n Vernissage le 24 Octobre à 18h00 à LaVallée Exposition photos et vidéo de Fabien Ruyssen Premiere exposition photo de Mathieu Verellen Découvrez aussi le premier live de Chérie chéri ! Et pour finir la soirée en beauté\, DJ C-Bullon vous offre un set qui vous fera voyager tout autant\n\nLe tout dans le cadre exceptionnel de LaVallée\, où l’art se vit sous toutes ses formes. \n\n\nThe Palm Beach heeft het genoegen u uit te nodigen om « Holga 48 » te ontdekken\, een fascinerende\, meeslepende tentoonstelling van Fabien Ruyssen. Dompel jezelf even onder in een verrassende tijdscyclus!\n Vernissage op 24 oktober om 18.00 uur in LaVallée Foto- en videotentoonstelling van Fabien Ruyssen Eerste fototentoonstelling van Mathieu Verellen Ontdek ook het eerste live optreden van Chérie chéri! En om de avond in stijl af te sluiten\,neemt DJ C-Bullon je mee op een even boeiende muzikale reis met zijn set!!\n\nDit alles in de uitzonderlijke setting van LaVallée\, waar kunst in al haar vormen wordt beleefd. \n\n\nThe Palm Beach is pleased to invite you to discover « Holga 48\, » a fascinating immersive exhibition by Fabien Ruyssen. Dive for a moment into a surprising time loop!\n Opening on October 24th at 6:00 PM at LaVallée Photo and video exhibition by Fabien Ruyssen First photo exhibition by Mathieu Verellen Also\, discover the first live performance by Chérie Chéri! And to end the evening in style\, DJ C-Bullon will take you on a journey with an amazing set!!\nAll this in the exceptional setting of LaVallée\, where art is experienced in all its forms.\n\n\n\n\n\n\n\n\n\n\n\n\n\n\n\n\n 
URL:https://lavallee.brussels/event/expo-holga-48-fabien-ruyssen/
LOCATION:LaVallée\, Rue Adolphe Lavallée 39\, Brussels\, 1080\, Belgique
ATTACH;FMTTYPE=image/jpeg:https://lavallee.brussels/wp-content/uploads/2024/09/459549238_3956194464618314_6053692342423240398_n.jpg
END:VEVENT
BEGIN:VEVENT
DTSTART;TZID=UTC:20241024T180000
DTEND;TZID=UTC:20241102T210000
DTSTAMP:20260420T053936
CREATED:20241015T084958Z
LAST-MODIFIED:20241015T085016Z
UID:4850-1729792800-1730581200@lavallee.brussels
SUMMARY:nervures - exposition
DESCRIPTION:Le choix curatorial porté sur les artistes s’est fait suivant leur sensibilité\, la qualité de leur travail et l’évocation du thème au cours de leur parcours artistique. Il leur est dès\nlors possible d’apporter et de nourrir la réflexion sur le thème à partir de leur approche créatrice ainsi que par le dialogue qui s’établit entre les oeuvres.\nAu-delà du dialogue entre les oeuvres\, chaque artiste complète son travail par une note d’intention. Une approche scientifique vient également compléter l’ensemble de\nl’exposition. L’exposition n’a pas pour but d’illustrer le propos biologique des nervures mais d’aborder les choses selon les Nervures ; voir par le biais de ces veinures\, de ces\nnervures et enrichir son regard à partir d’elles.\nLa particularité de ce projet curatorial est d’aborder de la manière la plus large possible une image\, une idée – les Nervures -\, de l’aborder tant sur le plan physique (biologique\,\netc) que sur le plan artistique. Rendre visible et vivant un ensemble de témoignages du thème en un harmonieux concert où chaque artiste joue une partition unique en écho aux autres.
URL:https://lavallee.brussels/event/nervures-exposition/
LOCATION:LaVallée\, Rue Adolphe Lavallée 39\, Brussels\, 1080\, Belgique
ATTACH;FMTTYPE=image/jpeg:https://lavallee.brussels/wp-content/uploads/2024/10/458439548_10161439165919061_5233068677278334030_n-1.jpg
END:VEVENT
BEGIN:VEVENT
DTSTART;TZID=UTC:20241026T220000
DTEND;TZID=UTC:20241027T040000
DTSTAMP:20260420T053936
CREATED:20240925T075709Z
LAST-MODIFIED:20240925T075709Z
UID:4784-1729980000-1730001600@lavallee.brussels
SUMMARY:kiekebiche #7
DESCRIPTION:Bon ok l’automne est là mais la kiekebiche revient pour t’apporter la dose de vitamine qui te fera passer outre cette grisaille annoncée …\nOn retourne à Lavallée \, on prend la crème des djs et on retourne le dancefloor\, t’es pas prêt•e je pense mais rassure toi ça va très bien se passer !\nPrépare ton boule à facette\, on s’occupe du reste\, tu ne seras pas déçu•e 🌟\nNos partners in crime on the dancefloor de cette édition sont : \n🍃 PRINCE OFF 🍃\nPierre Pevée alias Prince Off est un DJ bruxellois né à Liège\, ayant développé des concepts de soirées qui ont marqué au fer rouge la nuit locale : les soirées P3P et les Leftorium.\nEn parallèle du DJing\, Pierre travaille par ailleurs pour la SMart sur le projet LaVallée\, un incubateur » d’artistes lancé en septembre 2014 dans une ancienne blanchisserie de Molenbeek.\n🍂 SOMBRE BAXTER 🍂\nHabitué.x à la moiteur du dancefloor insomniaque\, te prépare le djset de ta meilleure boom: radicale et juicy. La fin de l’automne n’arrêtera pas la température de monter\, bien au contraire! Prépare tes meilleurs moves et tes paillettes noires.\n🍁 HORST & BEKY (KKBCH) 🍁\nDuo de barbus sur ressorts\, musicalement instables\, adeptes des grands écarts en tout genre\, les di sets des deux hôtes de la KIEKEBICHE font fricoter pop\, electro\, house\, rock et disco\, votre « boule » a facettes n’a qu’a bien se tenir !\n🍄 ACID LILY 🍄\nDJ résidente à Missfitte\, celle qui se définit comme “the trash and trans version of Emily in Paris” a une culture musicale sans bornes. Qu’importe le flacon (le genre musical)\, pourvu qu’il y ait l’ivresse (vous faire remuer votre fessier)! Inspirée par les montagnes suisses et la vie queer bruxelloise\, elle mélange des sons underground et une pop familière pour proposer des mix fun et survitaminés. Acid\, grosse basses\, plein d’amour et beaucoup d’énergie\, pour vous faire danser toute la nuit. \n🚌 Le côté pratique 🚌\nSamedi 26 Octobre – 22h > 4h\nPréventes en nombre limité à 6€ : https://urls.fr/W5Zt3X\nSur place 8 euros avant minuit\, 10 euros après (cash only sauf au bar)\nLaVallée – rue Adolphe Lavallée 39 1080 Bruxelles\nAccès transport public : Tram 51 (arrêt Sainctelette)\, Métro 2 et 6 (arrêt Ribaucourt)\n🌈 ⚠️🌈 Pour que la fête soit belle et safe\, la KIEKEBICHE condamne tout acte homophobe\, transphobe\, misogyne\, raciste\, antisémite\, discriminatoire de quelque nature qu’il soit ainsi que la violence\, la haine et l’irrespect sous toutes leurs formes. Nous en appelons à la bienveillance de chacun.e. 🌈 ⚠️🌈
URL:https://lavallee.brussels/event/kiekebiche-7/
LOCATION:LaVallée\, Rue Adolphe Lavallée 39\, Brussels\, 1080\, Belgique
ATTACH;FMTTYPE=image/jpeg:https://lavallee.brussels/wp-content/uploads/2024/09/461078783_927154886111528_8699103401653152674_n.jpg
END:VEVENT
END:VCALENDAR