BEGIN:VCALENDAR
VERSION:2.0
PRODID:-//LaVallee - ECPv6.13.2.1//NONSGML v1.0//EN
CALSCALE:GREGORIAN
METHOD:PUBLISH
X-ORIGINAL-URL:https://lavallee.brussels
X-WR-CALDESC:Évènements pour LaVallee
REFRESH-INTERVAL;VALUE=DURATION:PT1H
X-Robots-Tag:noindex
X-PUBLISHED-TTL:PT1H
BEGIN:VTIMEZONE
TZID:UTC
BEGIN:STANDARD
TZOFFSETFROM:+0000
TZOFFSETTO:+0000
TZNAME:UTC
DTSTART:20240101T000000
END:STANDARD
END:VTIMEZONE
BEGIN:VEVENT
DTSTART;TZID=UTC:20241018T170000
DTEND;TZID=UTC:20241020T170000
DTSTAMP:20260420T054037
CREATED:20241017T091231Z
LAST-MODIFIED:20241017T091239Z
UID:4860-1729270800-1729443600@lavallee.brussels
SUMMARY:Voyages into the non existing landscape
DESCRIPTION:Exhibition by Matilde Everaert
URL:https://lavallee.brussels/event/voyages-into-the-non-existing-landscape/
ATTACH;FMTTYPE=image/jpeg:https://lavallee.brussels/wp-content/uploads/2024/10/thumbnail_6MatildeEveraert.jpg
END:VEVENT
BEGIN:VEVENT
DTSTART;TZID=UTC:20241018T210000
DTEND;TZID=UTC:20241019T040000
DTSTAMP:20260420T054037
CREATED:20241017T093342Z
LAST-MODIFIED:20241017T093342Z
UID:4870-1729285200-1729310400@lavallee.brussels
SUMMARY:Spaak Goes Live
DESCRIPTION:A highly customized and dynamic blend of rhythm\, melody\, and technology awaits you at LaVallée. Next to a tailored selection of DJs\, for the very first time\, SPAAK. has curated a line-up of not one but three modular live acts. No two modular live shows are ever the same\, making each one a distinct musical experience. Join us for a night of a vibrant\, evolving soundscape. \n›› Line Up ‹‹\n› Modular lives ‹\nMarlen\nMesomorph & Mudd Corp\nPhilippe Flantier\n› DJ sets ‹\nRemus\nlisimos \n›› Tickets ‹‹\nPresale: €8\nLimited tickets at door: €10\nhttps://ra.co/events/2021666\nFree entry: 21.00-22.00 \n›› Practical Info ‹‹\nZero tolerance for any kind of discrimination\, violence\, or harassment. We and our security reserve the right to deny entry to anyone violating our principles.\nNeed something? Our Awareness Team will be available at all times. You can also message us at spaak.collective@gmail.com. \n›› Who We Are ‹‹\nSPAAK. is a Brussels-based electronic music collective\, which mobilises and organises techno and other electronic music events\, as well as art exchanges\, giving visibility to new and emerging artists. It establishes a safe space for creativity\, diversity\, freedom and open-mindedness\, where music & self-expression collide.
URL:https://lavallee.brussels/event/spaak-goes-live/
ATTACH;FMTTYPE=image/jpeg:https://lavallee.brussels/wp-content/uploads/2024/10/462631662_537341692377798_6663452745156890956_n.jpg
END:VEVENT
END:VCALENDAR