BEGIN:VCALENDAR
VERSION:2.0
PRODID:-//LaVallee - ECPv6.13.2.1//NONSGML v1.0//EN
CALSCALE:GREGORIAN
METHOD:PUBLISH
X-ORIGINAL-URL:https://lavallee.brussels/?lang=nl
X-WR-CALDESC:Evenementen voor LaVallee
REFRESH-INTERVAL;VALUE=DURATION:PT1H
X-Robots-Tag:noindex
X-PUBLISHED-TTL:PT1H
BEGIN:VTIMEZONE
TZID:UTC
BEGIN:STANDARD
TZOFFSETFROM:+0000
TZOFFSETTO:+0000
TZNAME:UTC
DTSTART:20260101T000000
END:STANDARD
END:VTIMEZONE
BEGIN:VEVENT
DTSTART;TZID=UTC:20260514T193000
DTEND;TZID=UTC:20260514T223000
DTSTAMP:20260423T195206
CREATED:20260324T153646Z
LAST-MODIFIED:20260324T153655Z
UID:6262-1778787000-1778797800@lavallee.brussels
SUMMARY:Les bingos de Mallow  avec Murphya
DESCRIPTION:COUCOU LES AMOURS\, \nEn cette semaine de  Pride\, on se retrouve à Lavallée pour une soirée aussi chaotique que fabuleuse 💅🌈 \n🎤Au programme : Bingo déjanté\, performances drag et énergie iconique\, le tout hosté par Mallow & Murphya\, notre mascotte des années 2000. Sur scène\, elle transforme la nostalgie d’internet en performances lumineuses et vibrantes — tout en twistant les codes à sa façon. \n1 grille – 5€ \n2 grilles – 8€ \n3 grilles – 12€ (prix recommandé) \n4 grilles – 15€ \nBring cash ! \nPendant la soirée\, profitez d’un verre au bar et laissez vous séduire par la magie du drag \nQuand ? – le jeudi 14 mai 2026 de 19h30 à 22h30 \nOù – LaVallée\, 39 rue Adolphe Lavallée\, 1080 BRUSSELS \nEntrée libre (achat des grilles pour participer) \nPMR/english friendly event \nMerci à @vano.clepsua pour l’affiche !!!!
URL:https://lavallee.brussels/event/les-bingos-de-mallow-avec-murphya/?lang=nl
LOCATION:LaVallée\, Rue Adolphe Lavallée 39\, Brussels\, 1080\, Belgique
ATTACH;FMTTYPE=application/pdf:https://lavallee.brussels/wp-content/uploads/2026/03/Poster-BINGO.pdf
END:VEVENT
END:VCALENDAR