BEGIN:VCALENDAR
VERSION:2.0
PRODID:-//LaVallee - ECPv6.13.2.1//NONSGML v1.0//EN
CALSCALE:GREGORIAN
METHOD:PUBLISH
X-ORIGINAL-URL:https://lavallee.brussels/?lang=nl
X-WR-CALDESC:Evenementen voor LaVallee
REFRESH-INTERVAL;VALUE=DURATION:PT1H
X-Robots-Tag:noindex
X-PUBLISHED-TTL:PT1H
BEGIN:VTIMEZONE
TZID:UTC
BEGIN:STANDARD
TZOFFSETFROM:+0000
TZOFFSETTO:+0000
TZNAME:UTC
DTSTART:20260101T000000
END:STANDARD
END:VTIMEZONE
BEGIN:VEVENT
DTSTART;TZID=UTC:20260425T210000
DTEND;TZID=UTC:20260426T030000
DTSTAMP:20260423T130015
CREATED:20260330T105705Z
LAST-MODIFIED:20260330T110009Z
UID:6314-1777150800-1777172400@lavallee.brussels
SUMMARY:La Nuit des Ruines GOES RAVE
DESCRIPTION:𝙉𝙀𝙒 𝘾𝙊𝙉𝘾𝙀𝙋𝙏\n𝙉𝙀𝙒 𝙋𝙇𝘼𝘾𝙀 \nChèr·e·s oiseaux de La Nuit\,\nNous vous revenons avec une édition freshly cooked \nOn a l’honneur de vous présenter cette line-up aux petits oignons composée de :\n@odd_ess (𝕠𝕓𝕤𝕔𝕦𝕣𝕖 𝕕𝕣𝕒𝕘)\n@joint.2.culasse (𝕕𝕒𝕟𝕔𝕖)\nKhalnayak @reactions_en_chienne (𝕕𝕒𝕣𝕜/𝕒𝕞𝕓𝕚𝕖𝕟𝕥/𝕘𝕠𝕥𝕙)\n@_.kirnyaa._ (𝕘𝕒𝕓𝕓𝕖𝕣)\n@force_eternl (𝕤𝕝𝕒𝕞 𝕖𝕝𝕖𝕔𝕥𝕣𝕠)\nTaïf @sound.of.swana (𝕤𝕪𝕟𝕥𝕙 𝕟𝕠𝕚𝕤𝕖) \nINFOS\n️LaVallée (Rue Adolphe Lavallée 39\, 1080 Molenbeek-Saint-Jean)\nOuverture des portes: 20h30\nDébut : 21h – Fin : 03h\nTicket Gobelin Malicieux: 10€\nTicket Centaure Vanille: 12€\nTicket Kraken Craquant: 15€ \n  \nAccès PMR \nOn se retrouve pour danser jusqu’au matin? @la.nuit.des.ruines \n\\\\ AFFICHE PAR @elle.minerve en pré-commande format 30×40 ->10€ //// \nMerci à la @loterienationaleloterij et à ses joueurs !
URL:https://lavallee.brussels/event/la-nuit-des-ruines-goes-rave/?lang=nl
LOCATION:LaVallée\, Rue Adolphe Lavallée 39\, Brussels\, 1080\, Belgique
ATTACH;FMTTYPE=image/png:https://lavallee.brussels/wp-content/uploads/2026/03/Affiche-LNDR-30x40-avec-logos-FINAL-scaled.png
END:VEVENT
END:VCALENDAR